Workbook

Sheet تقييم المتعاقدين
B1: أداة تقييم أداء المتعاقد (نظافة المدن)
B2: معايير التقييم | C2: القياس | D2: نقاط التقييم | G2: تقييم المعيار | H2: ملاحظات
D3: 90-100% | E3: 70-89% | F3: 50-69%
B5: إدارة العقد
B6: الالتزام بشروط العقد | C6: نسبة الإلتزام بإغلاق الملاحظات المتعلقة بشروط عقد نظافة المدن | D6: >95% | E6: 85-95% | F6: <85% | G6: 1 | H6: تحدد الجهة مبررات نقاط المتعاقد
B7: جودة تنفيذ الأعمال
B8: خطة إدارة المشروع | C8: نسبة الالتزام بخطة إدارة أعمال تنفيذ المشروع | D8: >89% | E8: 70-89% | F8: <70% | G8: 1 | H8: تحدد الجهة مبررات نقاط المتعاقد
B9: الالتزام بالمواصفات والشروط الخاصة بالعمالة | C9: نسبة إلتزام المتعاقد بالمتطلبات الخاصة بالعمالة والمنصوص عليها في العقد | D9: >89% | E9: 70-89% | F9: <70% | G9: 1 | H9: تحدد الجهة مبررات نقاط المتعاقد
B10: الالتزام بالمواصفات والشروط الخاصة بالمعدات | C10: نسبة إلتزام المتعاقد بإستخدام معدات تتوافق مع المواصفات و المقاييس العالمية كما تم النص عليها في العقد | D10: >89% | E10: 70-89% | F10: <70% | G10: 1 | H10: تحدد الجهة مبررات نقاط المتعاقد
B11: الالتزام بنظافة وصيانة المعدات والحاويات | C11: نسبة التزام المتعاقد بالنظافة والصيانة الدورية للمعدات والحاويات المستخدمة في المشروع | D11: >95% | E11: 80-95% | F11: <80% | G11: 1 | H11: تحدد الجهة مبررات نقاط المتعاقد
B12: الالتزام بالمواصفات والشروط الخاصة بالمواد | C12: نسبة التزام المتعاقد بتوريد وتوفير المواد المطلوبة كما تم النص عليها في العقد | D12: >89% | E12: 70-89% | F12: <70% | G12: 1 | H12: تحدد الجهة مبررات نقاط المتعاقد
B13: دقة تنفيذ الأعمال | C13: نسبة التزام المتعاقد بتنفيذ الاعمال بدقة وفقاُ للمعايير البيئية والصحية المعتمدة. | D13: >89% | E13: 70-89% | F13: <70% | G13: 1 | H13: تحدد الجهة مبررات نقاط المتعاقد
B14: جودة التقارير وصحتها | C14: تقديم تقارير شاملة ودقيقة عن حالة اعمال نظافة المدن التي تمت خلال الفترة | D14: كاملة وصحيحة | E14: وجود بعض الأخطاء (غير مؤثرة) | F14: وجود أخطاء جوهرية | G14: 1 | H14: تحدد الجهة مبررات نقاط المتعاقد
B15: إستخدام تقنيات ذكية | C15: نسبة إلتزام المتعاقد بإستخدام احدث الآت النظافة عدد التقنيات و الأنظمة الذكية المضافة للمشروع ( يقاس بالعدد وليس نسبة) نسبة المعدات المحدثة بالتقنيات الذكية من اجمالي المعدات | D15: >89% | E15: 70-89% | F15: <70% | G15: 1 | H15: تحدد الجهة مبررات نقاط المتعاقد
B16: إنجاز الأعمال
B17: البدء في الوقت المحدد | C17: البدء بالتاريخ المحدد بالعقد لتنفيذ الأعمال | D17: >89% | E17: 70-89% | F17: <70% | G17: 1 | H17: تحدد الجهة مبررات نقاط المتعاقد
B18: التسليم في الوقت المحدد | C18: عدد أيام التأخير عن التاريخ المتفق عليه للنظافة والإصلاح للبلاغلات وأوامر العمل | D18: التسليم قبل الوقت المحدد | E18: التأخر حتى 5 أيام | F18: التأخر أكثر من 5 أيام | G18: 1 | H18: تحدد الجهة مبررات نقاط المتعاقد
B19: صحة معلومات وثائق التسليم | C19: صحة معلومات وثائق التسليم (مذكرات التسليم وقوائم التعبئة والفواتير) | D19: كاملة وصحيحة | E19: وجود بعض الأخطاء (غير مؤثرة) | F19: وجود أخطاء جوهرية | G19: 1 | H19: تحدد الجهة مبررات نقاط المتعاقد
B20: الالتزام بالمحتوى المحلي
B21: الالتزام بنسبة المحتوى المحلي المستهدفة | C21: الفارق بين نسبة المحتوى المحلي المستهدفة ونسبة المحتوى المحلي المحققة | D21: 5% وأقل | E21: أكثر من 5% وبما لا يتجاوز 15% | F21: أكثر من 15% | G21: 1 | H21: تحدد الجهة مبررات نقاط المتعاقد
B22: سرعة وسهولة تجاوب المتعاقد
B23: التواصل | C23: الاستجابة للملاحظات والشكاوي بسرعة وفاعلية | D23: <12 ساعة | E23: 12 - 24 ساعة | F23: >24 ساعة | G23: 1 | H23: تحدد الجهة مبررات نقاط المتعاقد
B24: المرونة | C24: نسبة الإلتزام بإغلاق الملاحظات المتعلقة بالبلاغات وأوامر العمل | D24: >89% | E24: 70-89% | F24: <70% | G24: 1 | H24: تحدد الجهة مبررات نقاط المتعاقد
B25: الاستجابة للطوارئ والتحديثات الضرورية | C25: عدد ساعات التأخير في الاستجابة للطوارئ والتحديثات الضرورية | D25: <6 ساعات | E25: 12-6 ساعة | F25: >12 ساعة | G25: 1 | H25: تحدد الجهة مبررات نقاط المتعاقد
B26: التعاون مع أصحاب العلاقة | C26: نسبة الإستجابة لطلبات التعاون مع أصحاب العلاقة أو مقاولين أخرين | D26: >89% | E26: 70-89% | F26: <70% | G26: 1 | H26: تحدد الجهة مبررات نقاط المتعاقد
B27: متطلبات إدارة المشتريات والعقود
B28: صحة المستندات المطلوبة لتنفيذ عمليات الشراء | C28: مدى التزام المتعاقد بتقديم المستندات المطلوبة لاستكمال عمليات الشراء كما تم النص عليها في العقد | D28: كاملة وصحيحة | E28: - | F28: وجود أخطاء | G28: 1 | H28: تحدد الجهة مبررات نقاط المتعاقد
B29: البيئة والصحة والسلامة
B30: إجراء تدريب لسلامة للعاملين | C30: نسبة العمالة التي أكملت تدريبات السلامة | D30: >95% | E30: 85-95% | F30: <85% | G30: 1 | H30: تحدد الجهة مبررات نقاط المتعاقد
B31: معدات السلامة | C31: توفير المعدات اللازمة لسلامة العاملين | D31: >89% | E31: 70-89% | F31: <70% | G31: 1 | H31: تحدد الجهة مبررات نقاط المتعاقد
B32: تقليل المخاطر | C32: نسبة الإلتزام بإغلاق الملاحظات المتعلقة المخاطر المحتملة | D32: >89% | E32: 70-89% | F32: <70% | G32: 1 | H32: تحدد الجهة مبررات نقاط المتعاقد
B33: عدم وجود مخالفات البيئة، والصحة، والسلامة | C33: عدد المخالفات | D33: =0 | E33: <10 | F33: >10 | G33: 1 | H33: تحدد الجهة مبررات نقاط المتعاقد
B34: المحافظة على معايير البيئة، والصحة، والسلامة | C34: نسبة الإلتزام بإغلاق الملاحظات المتعلقة بالمخالفات البيئية، والصحة والسلامة | D34: >89% | E34: 70-89% | F34: <70% | G34: 1 | H34: تحدد الجهة مبررات نقاط المتعاقد
B36: نتيجة التقييم
B37: معايير التقييم | C37: الوزن | D37: تقييم المورد
B38: إدارة العقد | C38: 0.1 | D38: =AVERAGE(G6) -> 1
B39: =B7 -> جودة تنفيذ الأعمال | C39: 0.2 | D39: =AVERAGE(G8:G15) -> 1
B40: =B16 -> إنجاز الأعمال | C40: 0.3 | D40: =AVERAGE(G17:G19) -> 1
B41: =B20 -> الالتزام بالمحتوى المحلي | C41: 0.1 | D41: =AVERAGE(G21) -> 1
B42: =B22 -> سرعة وسهولة تجاوب المتعاقد | C42: 0.15 | D42: =AVERAGE(G23:G26) -> 1
...

Sheet نتائج التقييم
A2: نموذج تقييم أداء (تشغيل ونظافة المدن)
A3: تقييم الأداء رقم | B3: رقم تسلسلي من إعتماد
A4: اسم المشروع | B4: اسم المشروع من إعتماد
A5: رقم العقد | B5: رقم العقد من إعتماد
A6: اسم المتعاقد | B6: اسم المتعاقد من إعتماد
A7: تاريخ التقييم | B7: تاريخ إجراء التقييم
A8: مدة العقد | B8: من تاريخ | C8: 45292 | E8: الى تاريخ | F8: 46023
A11: معايير التقييم | B11: نتائج التقييم بحسب الفترات
B12: =IF(EDATE(C8,3)>$F$8,"",(EDATE(C8,3))) -> 45383 | C12: =IF(B12="","", IF(EDATE(B12,3)>$F$8,"",(EDATE(B12,3)))) -> 45474 | D12: =IF(C12="","", IF(EDATE(C12,3)>$F$8,"",(EDATE(C12,3)))) -> 45566 | E12: =IF(D12="","", IF(EDATE(D12,3)>$F$8,"",(EDATE(D12,3)))) -> 45658 | F12: =IF(E12="","", IF(EDATE(E12,3)>$F$8,"",(EDATE(E12,3)))) -> 45748 | G12: =IF(F12="","", IF(EDATE(F12,3)>$F$8,"",(EDATE(F12,3)))) -> 45839 | H12: =IF(G12="","", IF(EDATE(G12,3)>$F$8,"",(EDATE(G12,3)))) -> 45931 | I12: =IF(H12="","", IF(EDATE(H12,3)>$F$8,"",(EDATE(H12,3)))) -> 46023 | J12: =IF(I12="","", IF(EDATE(I12,3)>$F$8,"",(EDATE(I12,3)))) | ... U12: =IF(T12="","", IF(EDATE(T12,3)>$F$8,"",(EDATE(T12,3))))
B13: التقييم (1) | C13: التقييم (2) | D13: التقييم (3) | E13: التقييم (4) | F13: التقييم (5) | G13: التقييم (6) | H13: التقييم (7) | I13: التقييم (8) | J13: التقييم (9) | K13: التقييم (10) | L13: التقييم (11) | M13: التقييم (12) | N13: التقييم (13) | O13: التقييم (14) | P13: التقييم (15) | Q13: التقييم (16) | R13: التقييم (17) | S13: التقييم (18) | T13: التقييم (19) | U13: التقييم (20)
A14: ='تقييم المتعاقدين'!B38 -> إدارة العقد
A15: ='تقييم المتعاقدين'!B39 -> جودة تنفيذ الأعمال
A16: ='تقييم المتعاقدين'!B40 -> إنجاز الأعمال
A17: ='تقييم المتعاقدين'!B41 -> الالتزام بالمحتوى المحلي
A18: ='تقييم المتعاقدين'!B42 -> سرعة وسهولة تجاوب المتعاقد
A19: متطلبات إدارة المشتريات والعقود
A20: ='تقييم المتعاقدين'!B44 -> البيئة والصحة والسلامة
A21: نتيجة التقييم الكلي لكل فترة | B21: {=SUM(B14:B20*'تقييم المتعاقدين'!$C$38:$C$44)} -> 0 | C21: {=SUM(C14:C20*'تقييم المتعاقدين'!$C$38:$C$44)} -> 0 | D21: {=SUM(D14:D20*'تقييم المتعاقدين'!$C$38:$C$44)} -> 0 | E21: {=SUM(E14:E20*'تقييم المتعاقدين'!$C$38:$C$44)} -> 0 | F21: {=SUM(F14:F20*'تقييم المتعاقدين'!$C$38:$C$44)} -> 0 | G21: {=SUM(G14:G20*'تقييم المتعاقدين'!$C$38:$C$44)} -> 0 | H21: {=SUM(H14:H20*'تقييم المتعاقدين'!$C$38:$C$44)} -> 0 | I21: {=SUM(I14:I20*'تقييم المتعاقدين'!$C$38:$C$44)} -> 0 | ... U21: {=SUM(U14:U20*'تقييم المتعاقدين'!$C$38:$C$44)} -> 0
A23: نتيجة التقييم الكلي للمشروع | B23: =IFERROR(AVERAGEIF(B21:G21,"<>0"),"لا يوجد تقييم حالي") -> لا يوجد تقييم حالي
A26: توصيات / ملاحظات أعضاء اللجنة (تعبى هذه الخانة من قبل الأعضاء)
A27: (يمكن إضافة عدد الأعضاء) | C27: الإدارة | D27: المسمى الوظيفي | E27: التوقيع | F27: ملاحظات الأعضاء (إن وجدت)
A28: عضو
A29: عضو
A30: عضو
A31: رئيس اللجنة
